BEGIN:VCALENDAR
VERSION:2.0
PRODID:-//Matilda Torres High School - ECPv6.15.18//NONSGML v1.0//EN
CALSCALE:GREGORIAN
METHOD:PUBLISH
X-WR-CALNAME:Matilda Torres High School
X-ORIGINAL-URL:https://torres.maderausd.org
X-WR-CALDESC:Events for Matilda Torres High School
REFRESH-INTERVAL;VALUE=DURATION:PT1H
X-Robots-Tag:noindex
X-PUBLISHED-TTL:PT1H
BEGIN:VTIMEZONE
TZID:America/Los_Angeles
BEGIN:DAYLIGHT
TZOFFSETFROM:-0800
TZOFFSETTO:-0700
TZNAME:PDT
DTSTART:20240310T100000
END:DAYLIGHT
BEGIN:STANDARD
TZOFFSETFROM:-0700
TZOFFSETTO:-0800
TZNAME:PST
DTSTART:20241103T090000
END:STANDARD
BEGIN:DAYLIGHT
TZOFFSETFROM:-0800
TZOFFSETTO:-0700
TZNAME:PDT
DTSTART:20250309T100000
END:DAYLIGHT
BEGIN:STANDARD
TZOFFSETFROM:-0700
TZOFFSETTO:-0800
TZNAME:PST
DTSTART:20251102T090000
END:STANDARD
BEGIN:DAYLIGHT
TZOFFSETFROM:-0800
TZOFFSETTO:-0700
TZNAME:PDT
DTSTART:20260308T100000
END:DAYLIGHT
BEGIN:STANDARD
TZOFFSETFROM:-0700
TZOFFSETTO:-0800
TZNAME:PST
DTSTART:20261101T090000
END:STANDARD
END:VTIMEZONE
BEGIN:VEVENT
DTSTART;TZID=America/Los_Angeles:20250502T150000
DTEND;TZID=America/Los_Angeles:20250502T180000
DTSTAMP:20260420T104631
CREATED:20250314T022154Z
LAST-MODIFIED:20250314T022154Z
UID:10002585-1746198000-1746208800@torres.maderausd.org
SUMMARY:Baseball vs MSHS
DESCRIPTION:JV: 3:00 pm V: 6:00 pm
URL:https://torres.maderausd.org/event/baseball-vs-mshs-3/
LOCATION:Torres High
CATEGORIES:Athletics
END:VEVENT
BEGIN:VEVENT
DTSTART;TZID=America/Los_Angeles:20250502T153000
DTEND;TZID=America/Los_Angeles:20250502T173000
DTSTAMP:20260420T104631
CREATED:20250314T022138Z
LAST-MODIFIED:20250314T022138Z
UID:10002584-1746199800-1746207000@torres.maderausd.org
SUMMARY:Softball @ Fresno High
DESCRIPTION:JV and Var at 3:30
URL:https://torres.maderausd.org/event/softball-fresno-high-2/
LOCATION:Fresno High School
CATEGORIES:Athletics
END:VEVENT
BEGIN:VEVENT
DTSTART;VALUE=DATE:20250505
DTEND;VALUE=DATE:20250510
DTSTAMP:20260420T104631
CREATED:20250314T022053Z
LAST-MODIFIED:20250314T022053Z
UID:10002551-1746403200-1746835199@torres.maderausd.org
SUMMARY:Culture Week
DESCRIPTION:
URL:https://torres.maderausd.org/event/culture-week/
CATEGORIES:Activities
END:VEVENT
BEGIN:VEVENT
DTSTART;VALUE=DATE:20250506
DTEND;VALUE=DATE:20250507
DTSTAMP:20260420T104631
CREATED:20250314T022154Z
LAST-MODIFIED:20250314T022154Z
UID:10002587-1746489600-1746575999@torres.maderausd.org
SUMMARY:Baseball vs McLane High
DESCRIPTION:JV\, V
URL:https://torres.maderausd.org/event/baseball-vs-mclane-high-2/
LOCATION:Torres High
CATEGORIES:Athletics
END:VEVENT
BEGIN:VEVENT
DTSTART;TZID=America/Los_Angeles:20250506T163000
DTEND;TZID=America/Los_Angeles:20250506T173000
DTSTAMP:20260420T104631
CREATED:20250314T022154Z
LAST-MODIFIED:20250314T022154Z
UID:10002586-1746549000-1746552600@torres.maderausd.org
SUMMARY:Softball vs Madera South High
DESCRIPTION:JV and Var at 4:30
URL:https://torres.maderausd.org/event/softball-vs-madera-south-high-2/
LOCATION:Matilda Torres High School\, 16645 Road 26\, Madera\, CA\, 93638\, United States
CATEGORIES:Athletics
END:VEVENT
BEGIN:VEVENT
DTSTART;TZID=America/Los_Angeles:20250508T180000
DTEND;TZID=America/Los_Angeles:20250508T200000
DTSTAMP:20260420T104631
CREATED:20250314T022053Z
LAST-MODIFIED:20250314T022053Z
UID:10002552-1746727200-1746734400@torres.maderausd.org
SUMMARY:Student Recognition Night
DESCRIPTION:
URL:https://torres.maderausd.org/event/student-recognition-night/
CATEGORIES:Activities
END:VEVENT
BEGIN:VEVENT
DTSTART;VALUE=DATE:20250509
DTEND;VALUE=DATE:20250510
DTSTAMP:20260420T104631
CREATED:20250314T022155Z
LAST-MODIFIED:20250314T022155Z
UID:10002589-1746748800-1746835199@torres.maderausd.org
SUMMARY:Baseball @ McLane High
DESCRIPTION:JV\, V
URL:https://torres.maderausd.org/event/baseball-mclane-high-3/
LOCATION:McLane High
CATEGORIES:Athletics
END:VEVENT
BEGIN:VEVENT
DTSTART;TZID=America/Los_Angeles:20250509T153000
DTEND;TZID=America/Los_Angeles:20250509T173000
DTSTAMP:20260420T104631
CREATED:20250314T022154Z
LAST-MODIFIED:20250314T022154Z
UID:10002588-1746804600-1746811800@torres.maderausd.org
SUMMARY:Softball vs Hoover High
DESCRIPTION:JV and Var at 3:30
URL:https://torres.maderausd.org/event/softball-vs-hoover-high-2/
LOCATION:Matilda Torres High School\, 16645 Road 26\, Madera\, CA\, 93638\, United States
CATEGORIES:Athletics
END:VEVENT
BEGIN:VEVENT
DTSTART;TZID=America/Los_Angeles:20250512T160000
DTEND;TZID=America/Los_Angeles:20250512T160000
DTSTAMP:20260420T104631
CREATED:20250528T181721Z
LAST-MODIFIED:20250528T184451Z
UID:10002592-1747065600-1747065600@torres.maderausd.org
SUMMARY:SSC Meeting\, May 2025
DESCRIPTION:
URL:https://torres.maderausd.org/event/ssc-meeting-may-2025/
LOCATION:Career Center
CATEGORIES:SSC,Calendar-Item
END:VEVENT
BEGIN:VEVENT
DTSTART;TZID=America/Los_Angeles:20250513T153000
DTEND;TZID=America/Los_Angeles:20250513T173000
DTSTAMP:20260420T104631
CREATED:20250314T022155Z
LAST-MODIFIED:20250314T022155Z
UID:10002590-1747150200-1747157400@torres.maderausd.org
SUMMARY:Softball @ Roosevelt High
DESCRIPTION:JV and Var at 3:30
URL:https://torres.maderausd.org/event/softball-roosevelt-high/
LOCATION:Roosevelt High School\, 4250 E Tulare Ave\, Fresno\, CA\, United States
CATEGORIES:Athletics
GEO:36.743077;-119.753867
X-APPLE-STRUCTURED-LOCATION;VALUE=URI;X-ADDRESS=Roosevelt High School 4250 E Tulare Ave Fresno CA United States;X-APPLE-RADIUS=500;X-TITLE=4250 E Tulare Ave:geo:-119.753867,36.743077
END:VEVENT
BEGIN:VEVENT
DTSTART;VALUE=DATE:20250521
DTEND;VALUE=DATE:20250523
DTSTAMP:20260420T104631
CREATED:20250314T022053Z
LAST-MODIFIED:20250314T022053Z
UID:10002553-1747785600-1747958399@torres.maderausd.org
SUMMARY:Grad Nite 2025
DESCRIPTION:
URL:https://torres.maderausd.org/event/grad-nite-2025/
CATEGORIES:Activities
END:VEVENT
BEGIN:VEVENT
DTSTART;VALUE=DATE:20250530
DTEND;VALUE=DATE:20250531
DTSTAMP:20260420T104631
CREATED:20250314T022054Z
LAST-MODIFIED:20250314T022054Z
UID:10002554-1748563200-1748649599@torres.maderausd.org
SUMMARY:End of the Year  & Senior Signing Rally
DESCRIPTION:
URL:https://torres.maderausd.org/event/end-of-the-year-senior-signing-rally/
CATEGORIES:Activities
END:VEVENT
END:VCALENDAR