BEGIN:VCALENDAR
VERSION:2.0
PRODID:-//Matilda Torres High School - ECPv6.15.18//NONSGML v1.0//EN
CALSCALE:GREGORIAN
METHOD:PUBLISH
X-WR-CALNAME:Matilda Torres High School
X-ORIGINAL-URL:https://torres.maderausd.org
X-WR-CALDESC:Events for Matilda Torres High School
REFRESH-INTERVAL;VALUE=DURATION:PT1H
X-Robots-Tag:noindex
X-PUBLISHED-TTL:PT1H
BEGIN:VTIMEZONE
TZID:America/Los_Angeles
BEGIN:DAYLIGHT
TZOFFSETFROM:-0800
TZOFFSETTO:-0700
TZNAME:PDT
DTSTART:20220313T100000
END:DAYLIGHT
BEGIN:STANDARD
TZOFFSETFROM:-0700
TZOFFSETTO:-0800
TZNAME:PST
DTSTART:20221106T090000
END:STANDARD
BEGIN:DAYLIGHT
TZOFFSETFROM:-0800
TZOFFSETTO:-0700
TZNAME:PDT
DTSTART:20230312T100000
END:DAYLIGHT
BEGIN:STANDARD
TZOFFSETFROM:-0700
TZOFFSETTO:-0800
TZNAME:PST
DTSTART:20231105T090000
END:STANDARD
BEGIN:DAYLIGHT
TZOFFSETFROM:-0800
TZOFFSETTO:-0700
TZNAME:PDT
DTSTART:20240310T100000
END:DAYLIGHT
BEGIN:STANDARD
TZOFFSETFROM:-0700
TZOFFSETTO:-0800
TZNAME:PST
DTSTART:20241103T090000
END:STANDARD
BEGIN:DAYLIGHT
TZOFFSETFROM:-0800
TZOFFSETTO:-0700
TZNAME:PDT
DTSTART:20250309T100000
END:DAYLIGHT
BEGIN:STANDARD
TZOFFSETFROM:-0700
TZOFFSETTO:-0800
TZNAME:PST
DTSTART:20251102T090000
END:STANDARD
END:VTIMEZONE
BEGIN:VEVENT
DTSTART;VALUE=DATE:20240325
DTEND;VALUE=DATE:20240326
DTSTAMP:20260422T153241
CREATED:20231230T090604Z
LAST-MODIFIED:20231230T090604Z
UID:10002196-1711324800-1711411199@torres.maderausd.org
SUMMARY:Spring Break
DESCRIPTION:
URL:https://torres.maderausd.org/event/spring-break-11/
CATEGORIES:Calendar-Item
END:VEVENT
BEGIN:VEVENT
DTSTART;VALUE=DATE:20240325
DTEND;VALUE=DATE:20240326
DTSTAMP:20260422T153241
CREATED:20231230T090603Z
LAST-MODIFIED:20231230T090603Z
UID:10002195-1711324800-1711411199@torres.maderausd.org
SUMMARY:Spring Break
DESCRIPTION:
URL:https://torres.maderausd.org/event/spring-break-10/
CATEGORIES:Calendar-Item
END:VEVENT
BEGIN:VEVENT
DTSTART;VALUE=DATE:20240322
DTEND;VALUE=DATE:20240323
DTSTAMP:20260422T153241
CREATED:20231223T014057Z
LAST-MODIFIED:20231223T014057Z
UID:10002194-1711065600-1711151999@torres.maderausd.org
SUMMARY:End of Quarter 3
DESCRIPTION:
URL:https://torres.maderausd.org/event/end-of-quarter-3/
CATEGORIES:Calendar-Item
END:VEVENT
BEGIN:VEVENT
DTSTART;TZID=America/Los_Angeles:20240318T160000
DTEND;TZID=America/Los_Angeles:20240318T180000
DTSTAMP:20260422T153241
CREATED:20230802T231249Z
LAST-MODIFIED:20240417T010314Z
UID:10002010-1710777600-1710784800@torres.maderausd.org
SUMMARY:SSC Meeting 3\, 2024
DESCRIPTION:/*! elementor – v3.20.0 – 13-03-2024 */\n.elementor-widget-image{text-align:center}.elementor-widget-image a{display:inline-block}.elementor-widget-image a img[src$=”.svg”]{width:48px}.elementor-widget-image img{vertical-align:middle;display:inline-block}
URL:https://torres.maderausd.org/event/ssc-meeting-3-2024/
LOCATION:Career Center
CATEGORIES:SSC,Calendar-Item
END:VEVENT
BEGIN:VEVENT
DTSTART;VALUE=DATE:20240311
DTEND;VALUE=DATE:20240312
DTSTAMP:20260422T153241
CREATED:20231216T010928Z
LAST-MODIFIED:20231216T010928Z
UID:10002193-1710115200-1710201599@torres.maderausd.org
SUMMARY:No School (Collaboration Day)
DESCRIPTION:
URL:https://torres.maderausd.org/event/no-school-collaboration-day-2/
CATEGORIES:Calendar-Item
END:VEVENT
BEGIN:VEVENT
DTSTART;TZID=America/Los_Angeles:20240307T173000
DTEND;TZID=America/Los_Angeles:20240307T190000
DTSTAMP:20260422T153241
CREATED:20230802T224313Z
LAST-MODIFIED:20230802T231416Z
UID:10002006-1709832600-1709838000@torres.maderausd.org
SUMMARY:ELAC Meeting 4\, 2024
DESCRIPTION:Download the Flyer\n\n\nDownload the Agenda\n\n\nDownload the Minutes
URL:https://torres.maderausd.org/event/elac-meeting-4-2024/
LOCATION:THS Cafeteria
CATEGORIES:Home,Calendar-Item,ELAC
ORGANIZER;CN="Activities Director%3A Bryan Speed":MAILTO:bryanspeed@maderausd.org
END:VEVENT
BEGIN:VEVENT
DTSTART;TZID=America/Los_Angeles:20240226T093000
DTEND;TZID=America/Los_Angeles:20240226T103000
DTSTAMP:20260422T153241
CREATED:20231201T234329Z
LAST-MODIFIED:20231201T234329Z
UID:10002192-1708939800-1708943400@torres.maderausd.org
SUMMARY:No School (SAP)
DESCRIPTION:
URL:https://torres.maderausd.org/event/no-school-sap-3/
CATEGORIES:Calendar-Item
END:VEVENT
BEGIN:VEVENT
DTSTART;VALUE=DATE:20240219
DTEND;VALUE=DATE:20240220
DTSTAMP:20260422T153241
CREATED:20231124T233346Z
LAST-MODIFIED:20231124T233346Z
UID:10002171-1708300800-1708387199@torres.maderausd.org
SUMMARY:No School (President's Day)
DESCRIPTION:
URL:https://torres.maderausd.org/event/no-school-presidents-day-3/
CATEGORIES:Calendar-Item
END:VEVENT
BEGIN:VEVENT
DTSTART;VALUE=DATE:20240212
DTEND;VALUE=DATE:20240213
DTSTAMP:20260422T153241
CREATED:20231117T220531Z
LAST-MODIFIED:20231117T220531Z
UID:10002140-1707696000-1707782399@torres.maderausd.org
SUMMARY:No School (Lincoln's Day)
DESCRIPTION:
URL:https://torres.maderausd.org/event/no-school-lincolns-day-2/
CATEGORIES:Calendar-Item
END:VEVENT
BEGIN:VEVENT
DTSTART;TZID=America/Los_Angeles:20240206T180000
DTEND;TZID=America/Los_Angeles:20240206T193000
DTSTAMP:20260422T153241
CREATED:20230802T224200Z
LAST-MODIFIED:20240417T012307Z
UID:10002005-1707242400-1707247800@torres.maderausd.org
SUMMARY:ELAC Meeting 3\, 2024
DESCRIPTION:/*! elementor – v3.19.0 – 29-01-2024 */\n.elementor-widget-image{text-align:center}.elementor-widget-image a{display:inline-block}.elementor-widget-image a img[src$=”.svg”]{width:48px}.elementor-widget-image img{vertical-align:middle;display:inline-block}											\n															\n			\n						Download the Flyer\n					\n			\n						Download the Agenda\n					\n			\n						Download the Minutes
URL:https://torres.maderausd.org/event/elac-meeting-3-2023-2/
LOCATION:Matilda Torres High School Lecture Hall\, 16645 Road 26\, Madera\, CA\, 93638\, United States
CATEGORIES:Home,Calendar-Item,ELAC
ORGANIZER;CN="Activities Director%3A Bryan Speed":MAILTO:bryanspeed@maderausd.org
END:VEVENT
BEGIN:VEVENT
DTSTART;VALUE=DATE:20240117
DTEND;VALUE=DATE:20240118
DTSTAMP:20260422T153241
CREATED:20231019T230832Z
LAST-MODIFIED:20231019T230832Z
UID:10002099-1705449600-1705535999@torres.maderausd.org
SUMMARY:Classes Resume
DESCRIPTION:
URL:https://torres.maderausd.org/event/classes-resume-5/
CATEGORIES:Calendar-Item
END:VEVENT
BEGIN:VEVENT
DTSTART;VALUE=DATE:20240116
DTEND;VALUE=DATE:20240117
DTSTAMP:20260422T153241
CREATED:20231019T230831Z
LAST-MODIFIED:20231019T230831Z
UID:10002097-1705363200-1705449599@torres.maderausd.org
SUMMARY:No School (Staff Institute Day)
DESCRIPTION:
URL:https://torres.maderausd.org/event/no-school-staff-institute-day/
CATEGORIES:Calendar-Item
END:VEVENT
BEGIN:VEVENT
DTSTART;VALUE=DATE:20240115
DTEND;VALUE=DATE:20240116
DTSTAMP:20260422T153241
CREATED:20231019T230831Z
LAST-MODIFIED:20231019T230831Z
UID:10002098-1705276800-1705363199@torres.maderausd.org
SUMMARY:No School (MLK Day)
DESCRIPTION:
URL:https://torres.maderausd.org/event/no-school-mlk-day/
CATEGORIES:Calendar-Item
END:VEVENT
BEGIN:VEVENT
DTSTART;VALUE=DATE:20240112
DTEND;VALUE=DATE:20240113
DTSTAMP:20260422T153242
CREATED:20231019T230831Z
LAST-MODIFIED:20231019T230831Z
UID:10002096-1705017600-1705103999@torres.maderausd.org
SUMMARY:Winter Break
DESCRIPTION:
URL:https://torres.maderausd.org/event/winter-break-37/
CATEGORIES:Calendar-Item
END:VEVENT
BEGIN:VEVENT
DTSTART;VALUE=DATE:20240111
DTEND;VALUE=DATE:20240112
DTSTAMP:20260422T153242
CREATED:20231019T230818Z
LAST-MODIFIED:20231019T230818Z
UID:10002091-1704931200-1705017599@torres.maderausd.org
SUMMARY:Winter Break
DESCRIPTION:
URL:https://torres.maderausd.org/event/winter-break-36/
CATEGORIES:Calendar-Item
END:VEVENT
BEGIN:VEVENT
DTSTART;VALUE=DATE:20240110
DTEND;VALUE=DATE:20240111
DTSTAMP:20260422T153242
CREATED:20231012T185844Z
LAST-MODIFIED:20231012T185844Z
UID:10002065-1704844800-1704931199@torres.maderausd.org
SUMMARY:Winter Break
DESCRIPTION:
URL:https://torres.maderausd.org/event/winter-break-35/
CATEGORIES:Calendar-Item
END:VEVENT
BEGIN:VEVENT
DTSTART;VALUE=DATE:20240109
DTEND;VALUE=DATE:20240110
DTSTAMP:20260422T153242
CREATED:20231012T185844Z
LAST-MODIFIED:20231012T185844Z
UID:10002064-1704758400-1704844799@torres.maderausd.org
SUMMARY:Winter Break
DESCRIPTION:
URL:https://torres.maderausd.org/event/winter-break-34/
CATEGORIES:Calendar-Item
END:VEVENT
BEGIN:VEVENT
DTSTART;VALUE=DATE:20240108
DTEND;VALUE=DATE:20240109
DTSTAMP:20260422T153242
CREATED:20231012T185844Z
LAST-MODIFIED:20231012T185844Z
UID:10002063-1704672000-1704758399@torres.maderausd.org
SUMMARY:Winter Break
DESCRIPTION:
URL:https://torres.maderausd.org/event/winter-break-33/
CATEGORIES:Calendar-Item
END:VEVENT
BEGIN:VEVENT
DTSTART;VALUE=DATE:20240107
DTEND;VALUE=DATE:20240108
DTSTAMP:20260422T153242
CREATED:20231012T185844Z
LAST-MODIFIED:20231012T185844Z
UID:10002062-1704585600-1704671999@torres.maderausd.org
SUMMARY:Winter Break
DESCRIPTION:
URL:https://torres.maderausd.org/event/winter-break-32/
CATEGORIES:Calendar-Item
END:VEVENT
BEGIN:VEVENT
DTSTART;VALUE=DATE:20240106
DTEND;VALUE=DATE:20240107
DTSTAMP:20260422T153242
CREATED:20231012T185844Z
LAST-MODIFIED:20231012T185844Z
UID:10002061-1704499200-1704585599@torres.maderausd.org
SUMMARY:Winter Break
DESCRIPTION:
URL:https://torres.maderausd.org/event/winter-break-31/
CATEGORIES:Calendar-Item
END:VEVENT
BEGIN:VEVENT
DTSTART;VALUE=DATE:20240105
DTEND;VALUE=DATE:20240106
DTSTAMP:20260422T153242
CREATED:20231012T185844Z
LAST-MODIFIED:20231012T185844Z
UID:10002060-1704412800-1704499199@torres.maderausd.org
SUMMARY:Winter Break
DESCRIPTION:
URL:https://torres.maderausd.org/event/winter-break-30/
CATEGORIES:Calendar-Item
END:VEVENT
BEGIN:VEVENT
DTSTART;VALUE=DATE:20240104
DTEND;VALUE=DATE:20240105
DTSTAMP:20260422T153242
CREATED:20231012T185843Z
LAST-MODIFIED:20231012T185843Z
UID:10002059-1704326400-1704412799@torres.maderausd.org
SUMMARY:Winter Break
DESCRIPTION:
URL:https://torres.maderausd.org/event/winter-break-29/
CATEGORIES:Calendar-Item
END:VEVENT
BEGIN:VEVENT
DTSTART;VALUE=DATE:20240103
DTEND;VALUE=DATE:20240104
DTSTAMP:20260422T153242
CREATED:20231005T170633Z
LAST-MODIFIED:20231005T170633Z
UID:10002035-1704240000-1704326399@torres.maderausd.org
SUMMARY:Winter Break
DESCRIPTION:
URL:https://torres.maderausd.org/event/winter-break-28/
CATEGORIES:Calendar-Item
END:VEVENT
BEGIN:VEVENT
DTSTART;VALUE=DATE:20240102
DTEND;VALUE=DATE:20240103
DTSTAMP:20260422T153242
CREATED:20231005T170633Z
LAST-MODIFIED:20231005T170633Z
UID:10002034-1704153600-1704239999@torres.maderausd.org
SUMMARY:Winter Break
DESCRIPTION:
URL:https://torres.maderausd.org/event/winter-break-27/
CATEGORIES:Calendar-Item
END:VEVENT
BEGIN:VEVENT
DTSTART;VALUE=DATE:20240101
DTEND;VALUE=DATE:20240102
DTSTAMP:20260422T153242
CREATED:20231005T170633Z
LAST-MODIFIED:20231005T170633Z
UID:10002033-1704067200-1704153599@torres.maderausd.org
SUMMARY:Winter Break
DESCRIPTION:
URL:https://torres.maderausd.org/event/winter-break-26/
CATEGORIES:Calendar-Item
END:VEVENT
BEGIN:VEVENT
DTSTART;VALUE=DATE:20231231
DTEND;VALUE=DATE:20240101
DTSTAMP:20260422T153242
CREATED:20231005T170633Z
LAST-MODIFIED:20231005T170633Z
UID:10002032-1703980800-1704067199@torres.maderausd.org
SUMMARY:Winter Break
DESCRIPTION:
URL:https://torres.maderausd.org/event/winter-break-25/
CATEGORIES:Calendar-Item
END:VEVENT
BEGIN:VEVENT
DTSTART;VALUE=DATE:20231230
DTEND;VALUE=DATE:20231231
DTSTAMP:20260422T153242
CREATED:20231005T170633Z
LAST-MODIFIED:20231005T170633Z
UID:10002031-1703894400-1703980799@torres.maderausd.org
SUMMARY:Winter Break
DESCRIPTION:
URL:https://torres.maderausd.org/event/winter-break-24/
CATEGORIES:Calendar-Item
END:VEVENT
BEGIN:VEVENT
DTSTART;VALUE=DATE:20231229
DTEND;VALUE=DATE:20231230
DTSTAMP:20260422T153242
CREATED:20231005T170632Z
LAST-MODIFIED:20231005T170632Z
UID:10002030-1703808000-1703894399@torres.maderausd.org
SUMMARY:Winter Break
DESCRIPTION:
URL:https://torres.maderausd.org/event/winter-break-23/
CATEGORIES:Calendar-Item
END:VEVENT
BEGIN:VEVENT
DTSTART;VALUE=DATE:20231228
DTEND;VALUE=DATE:20231229
DTSTAMP:20260422T153242
CREATED:20231005T170632Z
LAST-MODIFIED:20231005T170632Z
UID:10002029-1703721600-1703807999@torres.maderausd.org
SUMMARY:Winter Break
DESCRIPTION:
URL:https://torres.maderausd.org/event/winter-break-22/
CATEGORIES:Calendar-Item
END:VEVENT
BEGIN:VEVENT
DTSTART;VALUE=DATE:20231227
DTEND;VALUE=DATE:20231228
DTSTAMP:20260422T153242
CREATED:20230928T162924Z
LAST-MODIFIED:20230928T162924Z
UID:10002025-1703635200-1703721599@torres.maderausd.org
SUMMARY:Winter Break
DESCRIPTION:
URL:https://torres.maderausd.org/event/winter-break-21/
CATEGORIES:Calendar-Item
END:VEVENT
END:VCALENDAR