BEGIN:VCALENDAR
VERSION:2.0
PRODID:-//Matilda Torres High School - ECPv6.15.18//NONSGML v1.0//EN
CALSCALE:GREGORIAN
METHOD:PUBLISH
X-ORIGINAL-URL:https://torres.maderausd.org
X-WR-CALDESC:Events for Matilda Torres High School
REFRESH-INTERVAL;VALUE=DURATION:PT1H
X-Robots-Tag:noindex
X-PUBLISHED-TTL:PT1H
BEGIN:VTIMEZONE
TZID:America/Los_Angeles
BEGIN:DAYLIGHT
TZOFFSETFROM:-0800
TZOFFSETTO:-0700
TZNAME:PDT
DTSTART:20230312T100000
END:DAYLIGHT
BEGIN:STANDARD
TZOFFSETFROM:-0700
TZOFFSETTO:-0800
TZNAME:PST
DTSTART:20231105T090000
END:STANDARD
BEGIN:DAYLIGHT
TZOFFSETFROM:-0800
TZOFFSETTO:-0700
TZNAME:PDT
DTSTART:20240310T100000
END:DAYLIGHT
BEGIN:STANDARD
TZOFFSETFROM:-0700
TZOFFSETTO:-0800
TZNAME:PST
DTSTART:20241103T090000
END:STANDARD
BEGIN:DAYLIGHT
TZOFFSETFROM:-0800
TZOFFSETTO:-0700
TZNAME:PDT
DTSTART:20250309T100000
END:DAYLIGHT
BEGIN:STANDARD
TZOFFSETFROM:-0700
TZOFFSETTO:-0800
TZNAME:PST
DTSTART:20251102T090000
END:STANDARD
BEGIN:DAYLIGHT
TZOFFSETFROM:-0800
TZOFFSETTO:-0700
TZNAME:PDT
DTSTART:20260308T100000
END:DAYLIGHT
BEGIN:STANDARD
TZOFFSETFROM:-0700
TZOFFSETTO:-0800
TZNAME:PST
DTSTART:20261101T090000
END:STANDARD
END:VTIMEZONE
BEGIN:VEVENT
DTSTART;VALUE=DATE:20250901
DTEND;VALUE=DATE:20250902
DTSTAMP:20260423T174502
CREATED:20250816T030510Z
LAST-MODIFIED:20250816T030510Z
UID:10002716-1756684800-1756771199@torres.maderausd.org
SUMMARY:No School (Labor Day)
DESCRIPTION:
URL:https://torres.maderausd.org/event/no-school-labor-day-2/
CATEGORIES:Calendar-Item
END:VEVENT
BEGIN:VEVENT
DTSTART;TZID=America/Los_Angeles:20250825T170000
DTEND;TZID=America/Los_Angeles:20250825T193000
DTSTAMP:20260423T174502
CREATED:20250802T025009Z
LAST-MODIFIED:20250802T025009Z
UID:10002704-1756141200-1756150200@torres.maderausd.org
SUMMARY:Back to School Night and Title 1 Meeting
DESCRIPTION:
URL:https://torres.maderausd.org/event/back-to-school-night-and-title-1-meeting/
LOCATION:Cafeteria\, Gym\, & Quad
CATEGORIES:Calendar-Item
END:VEVENT
BEGIN:VEVENT
DTSTART;VALUE=DATE:20250821
DTEND;VALUE=DATE:20250822
DTSTAMP:20260423T174502
CREATED:20250816T030509Z
LAST-MODIFIED:20250816T030509Z
UID:10002715-1755734400-1755820799@torres.maderausd.org
SUMMARY:11th and 12th Grade School Pictures
DESCRIPTION:
URL:https://torres.maderausd.org/event/11th-and-12th-grade-school-pictures/
CATEGORIES:Calendar-Item
END:VEVENT
BEGIN:VEVENT
DTSTART;VALUE=DATE:20250819
DTEND;VALUE=DATE:20250820
DTSTAMP:20260423T174502
CREATED:20250816T030509Z
LAST-MODIFIED:20250816T030509Z
UID:10002714-1755561600-1755647999@torres.maderausd.org
SUMMARY:9th & 10th Grade School Photos
DESCRIPTION:
URL:https://torres.maderausd.org/event/9th-10th-grade-school-photos/
CATEGORIES:Calendar-Item
END:VEVENT
BEGIN:VEVENT
DTSTART;VALUE=DATE:20250807
DTEND;VALUE=DATE:20250808
DTSTAMP:20260423T174502
CREATED:20250613T015129Z
LAST-MODIFIED:20250613T015129Z
UID:10002593-1754524800-1754611199@torres.maderausd.org
SUMMARY:First Day of School 25-26
DESCRIPTION:
URL:https://torres.maderausd.org/event/first-day-of-school-25-26/
CATEGORIES:Calendar-Item
END:VEVENT
BEGIN:VEVENT
DTSTART;TZID=America/Los_Angeles:20250605T180000
DTEND;TZID=America/Los_Angeles:20250605T200000
DTSTAMP:20260423T174502
CREATED:20250314T022053Z
LAST-MODIFIED:20250314T022053Z
UID:10002546-1749146400-1749153600@torres.maderausd.org
SUMMARY:Graduation 2025
DESCRIPTION:
URL:https://torres.maderausd.org/event/graduation-2025/
CATEGORIES:Calendar-Item
END:VEVENT
BEGIN:VEVENT
DTSTART;TZID=America/Los_Angeles:20250512T160000
DTEND;TZID=America/Los_Angeles:20250512T160000
DTSTAMP:20260423T174502
CREATED:20250528T181721Z
LAST-MODIFIED:20250528T184451Z
UID:10002592-1747065600-1747065600@torres.maderausd.org
SUMMARY:SSC Meeting\, May 2025
DESCRIPTION:
URL:https://torres.maderausd.org/event/ssc-meeting-may-2025/
LOCATION:Career Center
CATEGORIES:SSC,Calendar-Item
END:VEVENT
BEGIN:VEVENT
DTSTART;VALUE=DATE:20250414
DTEND;VALUE=DATE:20250419
DTSTAMP:20260423T174502
CREATED:20250314T022052Z
LAST-MODIFIED:20250314T022052Z
UID:10002545-1744588800-1745020799@torres.maderausd.org
SUMMARY:Spring Break
DESCRIPTION:
URL:https://torres.maderausd.org/event/spring-break-17/
CATEGORIES:Calendar-Item
END:VEVENT
BEGIN:VEVENT
DTSTART;TZID=America/Los_Angeles:20250326T183000
DTEND;TZID=America/Los_Angeles:20250326T203000
DTSTAMP:20260423T174502
CREATED:20250314T022052Z
LAST-MODIFIED:20250314T022052Z
UID:10002544-1743013800-1743021000@torres.maderausd.org
SUMMARY:4.0 Awards Night
DESCRIPTION:
URL:https://torres.maderausd.org/event/4-0-awards-night-2/
CATEGORIES:Calendar-Item
END:VEVENT
BEGIN:VEVENT
DTSTART;TZID=America/Los_Angeles:20250116T160000
DTEND;TZID=America/Los_Angeles:20250116T180000
DTSTAMP:20260423T174502
CREATED:20250320T234355Z
LAST-MODIFIED:20250320T234647Z
UID:10002591-1737043200-1737050400@torres.maderausd.org
SUMMARY:SSC Meeting\, April 2025
DESCRIPTION:
URL:https://torres.maderausd.org/event/ssc-meeting-april-2025/
LOCATION:Career Center
CATEGORIES:SSC,Calendar-Item
END:VEVENT
BEGIN:VEVENT
DTSTART;TZID=America/Los_Angeles:20250116T160000
DTEND;TZID=America/Los_Angeles:20250116T180000
DTSTAMP:20260423T174502
CREATED:20241212T210317Z
LAST-MODIFIED:20250204T225935Z
UID:10002540-1737043200-1737050400@torres.maderausd.org
SUMMARY:SSC Meeting\, Jan 2025
DESCRIPTION:
URL:https://torres.maderausd.org/event/ssc-meeting-dec-2024/
LOCATION:Career Center
CATEGORIES:SSC,Calendar-Item
END:VEVENT
BEGIN:VEVENT
DTSTART;TZID=America/Los_Angeles:20241024T160000
DTEND;TZID=America/Los_Angeles:20241024T180000
DTSTAMP:20260423T174502
CREATED:20241021T203803Z
LAST-MODIFIED:20241021T204158Z
UID:10002475-1729785600-1729792800@torres.maderausd.org
SUMMARY:SSC Meeting\, Oct 2024
DESCRIPTION:
URL:https://torres.maderausd.org/event/ssc-meeting-oct-2024/
LOCATION:Career Center
CATEGORIES:SSC,Calendar-Item
END:VEVENT
BEGIN:VEVENT
DTSTART;TZID=America/Los_Angeles:20240919T160000
DTEND;TZID=America/Los_Angeles:20240919T180000
DTSTAMP:20260423T174502
CREATED:20240919T013418Z
LAST-MODIFIED:20240919T020433Z
UID:10002473-1726761600-1726768800@torres.maderausd.org
SUMMARY:SSC Meeting\, Sept 2024
DESCRIPTION:
URL:https://torres.maderausd.org/event/ssc-meeting-sept-2024/
LOCATION:Career Center
CATEGORIES:SSC,Calendar-Item
END:VEVENT
BEGIN:VEVENT
DTSTART;VALUE=DATE:20240812
DTEND;VALUE=DATE:20240813
DTSTAMP:20260423T174502
CREATED:20240720T080044Z
LAST-MODIFIED:20240720T080044Z
UID:10002417-1723420800-1723507199@torres.maderausd.org
SUMMARY:First Day of School 24-25
DESCRIPTION:
URL:https://torres.maderausd.org/event/first-day-of-school-24-25/
CATEGORIES:Calendar-Item
END:VEVENT
BEGIN:VEVENT
DTSTART;TZID=America/Los_Angeles:20240731T081500
DTEND;TZID=America/Los_Angeles:20240731T161500
DTSTAMP:20260423T174502
CREATED:20240720T080044Z
LAST-MODIFIED:20240720T080044Z
UID:10002416-1722413700-1722442500@torres.maderausd.org
SUMMARY:NEW To Torres 10th-12th Grader Registration
DESCRIPTION:Registration is only for students that are NEW to Torres High School for the 2024-2025 School Year.  \nWhat to Bring:  \n1.) Your immunization records \n2.) Proof of residency. (PG&E Bill\, Phone Bill\, ID\, Driver’s License\, Cable/Internet Bill)
URL:https://torres.maderausd.org/event/new-to-torres-10th-12th-grader-registration-2/
LOCATION:Torres High School Main Office
CATEGORIES:Calendar-Item
END:VEVENT
BEGIN:VEVENT
DTSTART;TZID=America/Los_Angeles:20240730T081500
DTEND;TZID=America/Los_Angeles:20240730T161500
DTSTAMP:20260423T174502
CREATED:20240720T080043Z
LAST-MODIFIED:20240720T080043Z
UID:10002415-1722327300-1722356100@torres.maderausd.org
SUMMARY:NEW To Torres 10th-12th Grader Registration
DESCRIPTION:Registration is only for students that are NEW to Torres High School for the 2024-2025 School Year.  \nWhat to Bring:  \n1.) Your immunization records \n2.) Proof of residency. (PG&E Bill\, Phone Bill\, ID\, Driver’s License\, Cable/Internet Bill)
URL:https://torres.maderausd.org/event/new-to-torres-10th-12th-grader-registration/
LOCATION:Torres High School Main Office
CATEGORIES:Calendar-Item
END:VEVENT
BEGIN:VEVENT
DTSTART;TZID=America/Los_Angeles:20240729T081500
DTEND;TZID=America/Los_Angeles:20240729T160000
DTSTAMP:20260423T174502
CREATED:20240720T080043Z
LAST-MODIFIED:20240720T080043Z
UID:10002414-1722240900-1722268800@torres.maderausd.org
SUMMARY:Incoming 9th Grader Registration (MANDATORY)
DESCRIPTION:Registration is MANDATORY for ALL Incoming 9th Graders  \nWhat to Bring:  \nMUSD Returning 9th Graders  \n1.) Proof of residency (PG&E Bill\, Phone Bill\, ID\, Driver’s License\, Cable/Internet Bill) \n \nAnyone NEW to the district (recently moved to MUSD or attended a charter school): \n1.) Your immunization records  \n2.) Proof of residency. (PG&E Bill\, Phone Bill\, ID\, Driver’s License\, Cable/Internet Bill)
URL:https://torres.maderausd.org/event/incoming-9th-grader-registration-mandatory/
LOCATION:Torres High School Main Office
CATEGORIES:Calendar-Item
END:VEVENT
BEGIN:VEVENT
DTSTART;TZID=America/Los_Angeles:20240604T193000
DTEND;TZID=America/Los_Angeles:20240604T210000
DTSTAMP:20260423T174502
CREATED:20240308T155745Z
LAST-MODIFIED:20240520T170114Z
UID:10002338-1717529400-1717534800@torres.maderausd.org
SUMMARY:Graduation 2024
DESCRIPTION:Gates Open at 6:00pm\nAdmission by Ticket ONLY\nProhibited Items\n\nNO Balloons\nNO Air Horns\nNO Signs\nNO food or drink will be allowed into the stadium\, with the exception of senior citizens and infants. Sealed bottled water is also allowed.\n\nCan’t make it in person?\n		Join our Graduation Livestream at  https://www.youtube.com/watch?v=Hf8z6qQLc04\n			\n\n\n											\n										YouTube LIVESTREAM
URL:https://torres.maderausd.org/event/graduation-2024/
LOCATION:Matilda Torres High School Stadium\, 16645 Road 26\, Madera\, 93638\, United States
CATEGORIES:Calendar-Item
END:VEVENT
BEGIN:VEVENT
DTSTART;TZID=America/Los_Angeles:20240502T160000
DTEND;TZID=America/Los_Angeles:20240502T180000
DTSTAMP:20260423T174502
CREATED:20230802T231544Z
LAST-MODIFIED:20240501T223508Z
UID:10002011-1714665600-1714672800@torres.maderausd.org
SUMMARY:SSC Meeting 4\, 2024
DESCRIPTION:
URL:https://torres.maderausd.org/event/ssc-meeting-4-2024/
LOCATION:Career Center
CATEGORIES:SSC,Calendar-Item
END:VEVENT
BEGIN:VEVENT
DTSTART;VALUE=DATE:20240329
DTEND;VALUE=DATE:20240330
DTSTAMP:20260423T174502
CREATED:20231230T090604Z
LAST-MODIFIED:20231230T090604Z
UID:10002201-1711670400-1711756799@torres.maderausd.org
SUMMARY:Spring Break
DESCRIPTION:
URL:https://torres.maderausd.org/event/spring-break-16/
CATEGORIES:Calendar-Item
END:VEVENT
BEGIN:VEVENT
DTSTART;VALUE=DATE:20240328
DTEND;VALUE=DATE:20240329
DTSTAMP:20260423T174502
CREATED:20231230T090604Z
LAST-MODIFIED:20231230T090604Z
UID:10002200-1711584000-1711670399@torres.maderausd.org
SUMMARY:Spring Break
DESCRIPTION:
URL:https://torres.maderausd.org/event/spring-break-15/
CATEGORIES:Calendar-Item
END:VEVENT
BEGIN:VEVENT
DTSTART;VALUE=DATE:20240327
DTEND;VALUE=DATE:20240328
DTSTAMP:20260423T174502
CREATED:20231230T090604Z
LAST-MODIFIED:20231230T090604Z
UID:10002198-1711497600-1711583999@torres.maderausd.org
SUMMARY:Spring Break
DESCRIPTION:
URL:https://torres.maderausd.org/event/spring-break-13/
CATEGORIES:Calendar-Item
END:VEVENT
BEGIN:VEVENT
DTSTART;VALUE=DATE:20240326
DTEND;VALUE=DATE:20240327
DTSTAMP:20260423T174502
CREATED:20231230T090604Z
LAST-MODIFIED:20231230T090604Z
UID:10002197-1711411200-1711497599@torres.maderausd.org
SUMMARY:Spring Break
DESCRIPTION:
URL:https://torres.maderausd.org/event/spring-break-12/
CATEGORIES:Calendar-Item
END:VEVENT
BEGIN:VEVENT
DTSTART;VALUE=DATE:20240326
DTEND;VALUE=DATE:20240327
DTSTAMP:20260423T174502
CREATED:20231230T090604Z
LAST-MODIFIED:20231230T090604Z
UID:10002199-1711411200-1711497599@torres.maderausd.org
SUMMARY:Spring Break
DESCRIPTION:
URL:https://torres.maderausd.org/event/spring-break-14/
CATEGORIES:Calendar-Item
END:VEVENT
BEGIN:VEVENT
DTSTART;VALUE=DATE:20240325
DTEND;VALUE=DATE:20240326
DTSTAMP:20260423T174502
CREATED:20231230T090604Z
LAST-MODIFIED:20231230T090604Z
UID:10002196-1711324800-1711411199@torres.maderausd.org
SUMMARY:Spring Break
DESCRIPTION:
URL:https://torres.maderausd.org/event/spring-break-11/
CATEGORIES:Calendar-Item
END:VEVENT
BEGIN:VEVENT
DTSTART;VALUE=DATE:20240325
DTEND;VALUE=DATE:20240326
DTSTAMP:20260423T174502
CREATED:20231230T090603Z
LAST-MODIFIED:20231230T090603Z
UID:10002195-1711324800-1711411199@torres.maderausd.org
SUMMARY:Spring Break
DESCRIPTION:
URL:https://torres.maderausd.org/event/spring-break-10/
CATEGORIES:Calendar-Item
END:VEVENT
BEGIN:VEVENT
DTSTART;VALUE=DATE:20240322
DTEND;VALUE=DATE:20240323
DTSTAMP:20260423T174502
CREATED:20231223T014057Z
LAST-MODIFIED:20231223T014057Z
UID:10002194-1711065600-1711151999@torres.maderausd.org
SUMMARY:End of Quarter 3
DESCRIPTION:
URL:https://torres.maderausd.org/event/end-of-quarter-3/
CATEGORIES:Calendar-Item
END:VEVENT
BEGIN:VEVENT
DTSTART;TZID=America/Los_Angeles:20240318T160000
DTEND;TZID=America/Los_Angeles:20240318T180000
DTSTAMP:20260423T174502
CREATED:20230802T231249Z
LAST-MODIFIED:20240417T010314Z
UID:10002010-1710777600-1710784800@torres.maderausd.org
SUMMARY:SSC Meeting 3\, 2024
DESCRIPTION:/*! elementor – v3.20.0 – 13-03-2024 */\n.elementor-widget-image{text-align:center}.elementor-widget-image a{display:inline-block}.elementor-widget-image a img[src$=”.svg”]{width:48px}.elementor-widget-image img{vertical-align:middle;display:inline-block}
URL:https://torres.maderausd.org/event/ssc-meeting-3-2024/
LOCATION:Career Center
CATEGORIES:SSC,Calendar-Item
END:VEVENT
BEGIN:VEVENT
DTSTART;VALUE=DATE:20240311
DTEND;VALUE=DATE:20240312
DTSTAMP:20260423T174502
CREATED:20231216T010928Z
LAST-MODIFIED:20231216T010928Z
UID:10002193-1710115200-1710201599@torres.maderausd.org
SUMMARY:No School (Collaboration Day)
DESCRIPTION:
URL:https://torres.maderausd.org/event/no-school-collaboration-day-2/
CATEGORIES:Calendar-Item
END:VEVENT
BEGIN:VEVENT
DTSTART;TZID=America/Los_Angeles:20240307T173000
DTEND;TZID=America/Los_Angeles:20240307T190000
DTSTAMP:20260423T174502
CREATED:20230802T224313Z
LAST-MODIFIED:20230802T231416Z
UID:10002006-1709832600-1709838000@torres.maderausd.org
SUMMARY:ELAC Meeting 4\, 2024
DESCRIPTION:Download the Flyer\n\n\nDownload the Agenda\n\n\nDownload the Minutes
URL:https://torres.maderausd.org/event/elac-meeting-4-2024/
LOCATION:THS Cafeteria
CATEGORIES:Home,Calendar-Item,ELAC
ORGANIZER;CN="Activities Director%3A Bryan Speed":MAILTO:bryanspeed@maderausd.org
END:VEVENT
END:VCALENDAR