BEGIN:VCALENDAR
VERSION:2.0
PRODID:-//Matilda Torres High School - ECPv6.15.18//NONSGML v1.0//EN
CALSCALE:GREGORIAN
METHOD:PUBLISH
X-WR-CALNAME:Matilda Torres High School
X-ORIGINAL-URL:https://torres.maderausd.org
X-WR-CALDESC:Events for Matilda Torres High School
REFRESH-INTERVAL;VALUE=DURATION:PT1H
X-Robots-Tag:noindex
X-PUBLISHED-TTL:PT1H
BEGIN:VTIMEZONE
TZID:America/Los_Angeles
BEGIN:DAYLIGHT
TZOFFSETFROM:-0800
TZOFFSETTO:-0700
TZNAME:PDT
DTSTART:20210314T100000
END:DAYLIGHT
BEGIN:STANDARD
TZOFFSETFROM:-0700
TZOFFSETTO:-0800
TZNAME:PST
DTSTART:20211107T090000
END:STANDARD
BEGIN:DAYLIGHT
TZOFFSETFROM:-0800
TZOFFSETTO:-0700
TZNAME:PDT
DTSTART:20220313T100000
END:DAYLIGHT
BEGIN:STANDARD
TZOFFSETFROM:-0700
TZOFFSETTO:-0800
TZNAME:PST
DTSTART:20221106T090000
END:STANDARD
BEGIN:DAYLIGHT
TZOFFSETFROM:-0800
TZOFFSETTO:-0700
TZNAME:PDT
DTSTART:20230312T100000
END:DAYLIGHT
BEGIN:STANDARD
TZOFFSETFROM:-0700
TZOFFSETTO:-0800
TZNAME:PST
DTSTART:20231105T090000
END:STANDARD
END:VTIMEZONE
BEGIN:VEVENT
DTSTART;TZID=America/Los_Angeles:20221004T150000
DTEND;TZID=America/Los_Angeles:20221004T163000
DTSTAMP:20260420T004232
CREATED:20220716T104305Z
LAST-MODIFIED:20220716T104305Z
UID:10001426-1664895600-1664901000@torres.maderausd.org
SUMMARY:G. Tennis vs Fresno High
DESCRIPTION:Home match starts at 3:00 pm
URL:https://torres.maderausd.org/event/g-tennis-vs-fresno-high/
LOCATION:Matilda Torres High School\, 16645 Rd 26\, Madera\, CA 93638\, USA
CATEGORIES:Athletics
ORGANIZER;CN="Torres Athletic Calendar":MAILTO:maderausd.org_kcpj6saapdn9it7b314mnfvrn0@group.calendar.google.com
END:VEVENT
BEGIN:VEVENT
DTSTART;TZID=America/Los_Angeles:20221004T150000
DTEND;TZID=America/Los_Angeles:20221004T163000
DTSTAMP:20260420T004232
CREATED:20220928T015847Z
LAST-MODIFIED:20220928T015847Z
UID:10001486-1664895600-1664901000@torres.maderausd.org
SUMMARY:G. Tennis vs Fresno High
DESCRIPTION:Home match starts at 3:00 pm
URL:https://torres.maderausd.org/event/g-tennis-vs-fresno-high-2/
LOCATION:Matilda Torres High School\, 16645 Rd 26\, Madera\, CA 93638\, USA
CATEGORIES:Athletics
ORGANIZER;CN="Torres Athletic Calendar":MAILTO:maderausd.org_kcpj6saapdn9it7b314mnfvrn0@group.calendar.google.com
END:VEVENT
BEGIN:VEVENT
DTSTART;TZID=America/Los_Angeles:20221004T153000
DTEND;TZID=America/Los_Angeles:20221004T163000
DTSTAMP:20260420T004232
CREATED:20220716T104305Z
LAST-MODIFIED:20220716T104305Z
UID:10001428-1664897400-1664901000@torres.maderausd.org
SUMMARY:G. Water Polo vs Roosevelt
DESCRIPTION:Home match starts at 3:30pm
URL:https://torres.maderausd.org/event/g-water-polo-vs-roosevelt/
LOCATION:Matilda Torres High School\, 16645 Rd 26\, Madera\, CA 93638\, USA
CATEGORIES:Athletics
ORGANIZER;CN="Torres Athletic Calendar":MAILTO:maderausd.org_kcpj6saapdn9it7b314mnfvrn0@group.calendar.google.com
END:VEVENT
BEGIN:VEVENT
DTSTART;TZID=America/Los_Angeles:20221004T153000
DTEND;TZID=America/Los_Angeles:20221004T163000
DTSTAMP:20260420T004232
CREATED:20220928T015859Z
LAST-MODIFIED:20220928T015859Z
UID:10001489-1664897400-1664901000@torres.maderausd.org
SUMMARY:G. Water Polo vs Roosevelt
DESCRIPTION:Home match starts at 3:30pm
URL:https://torres.maderausd.org/event/g-water-polo-vs-roosevelt-2/
LOCATION:Matilda Torres High School\, 16645 Rd 26\, Madera\, CA 93638\, USA
CATEGORIES:Athletics
ORGANIZER;CN="Torres Athletic Calendar":MAILTO:maderausd.org_kcpj6saapdn9it7b314mnfvrn0@group.calendar.google.com
END:VEVENT
BEGIN:VEVENT
DTSTART;TZID=America/Los_Angeles:20221004T153000
DTEND;TZID=America/Los_Angeles:20221004T193000
DTSTAMP:20260420T004232
CREATED:20220716T104305Z
LAST-MODIFIED:20220716T104305Z
UID:10001427-1664897400-1664911800@torres.maderausd.org
SUMMARY:G. Volleyball @ McLane High
DESCRIPTION:Away game- Frosh\, JV\, Varsity; 3:30/ 4:30/ 5:30 pm
URL:https://torres.maderausd.org/event/g-volleyball-mclane-high/
LOCATION:McLane High School\, 2727 N Cedar Ave\, Fresno\, CA 93703\, USA
CATEGORIES:Athletics
END:VEVENT
BEGIN:VEVENT
DTSTART;TZID=America/Los_Angeles:20221004T153000
DTEND;TZID=America/Los_Angeles:20221004T193000
DTSTAMP:20260420T004232
CREATED:20220928T015858Z
LAST-MODIFIED:20220928T015858Z
UID:10001487-1664897400-1664911800@torres.maderausd.org
SUMMARY:G. Volleyball @ McLane High
DESCRIPTION:Away game- Frosh\, JV\, Varsity; 3:30/ 4:30/ 5:30 pm
URL:https://torres.maderausd.org/event/g-volleyball-mclane-high-2/
LOCATION:McLane High School\, 2727 N Cedar Ave\, Fresno\, CA 93703\, USA
CATEGORIES:Athletics
END:VEVENT
BEGIN:VEVENT
DTSTART;TZID=America/Los_Angeles:20221004T154500
DTEND;TZID=America/Los_Angeles:20221004T190000
DTSTAMP:20260420T004232
CREATED:20220725T090452Z
LAST-MODIFIED:20220725T090452Z
UID:10001454-1664898300-1664910000@torres.maderausd.org
SUMMARY:Cheer (Gym)
DESCRIPTION:
URL:https://torres.maderausd.org/event/cheer-gym-8/
CATEGORIES:Athletics
ORGANIZER;CN="Torres Athletic Calendar":MAILTO:maderausd.org_kcpj6saapdn9it7b314mnfvrn0@group.calendar.google.com
END:VEVENT
BEGIN:VEVENT
DTSTART;TZID=America/Los_Angeles:20221004T154500
DTEND;TZID=America/Los_Angeles:20221004T190000
DTSTAMP:20260420T004232
CREATED:20220928T015859Z
LAST-MODIFIED:20220928T015859Z
UID:10001488-1664898300-1664910000@torres.maderausd.org
SUMMARY:Cheer (Gym)
DESCRIPTION:
URL:https://torres.maderausd.org/event/cheer-gym-11/
CATEGORIES:Athletics
ORGANIZER;CN="Torres Athletic Calendar":MAILTO:maderausd.org_kcpj6saapdn9it7b314mnfvrn0@group.calendar.google.com
END:VEVENT
BEGIN:VEVENT
DTSTART;TZID=America/Los_Angeles:20221004T163000
DTEND;TZID=America/Los_Angeles:20221004T173000
DTSTAMP:20260420T004232
CREATED:20220716T104304Z
LAST-MODIFIED:20220716T104304Z
UID:10001425-1664901000-1664904600@torres.maderausd.org
SUMMARY:B. Water Polo vs Roosevelt
DESCRIPTION:Home match starts at 4:30pm
URL:https://torres.maderausd.org/event/b-water-polo-vs-roosevelt/
LOCATION:Matilda Torres High School\, 16645 Rd 26\, Madera\, CA 93638\, USA
CATEGORIES:Athletics
END:VEVENT
BEGIN:VEVENT
DTSTART;TZID=America/Los_Angeles:20221004T163000
DTEND;TZID=America/Los_Angeles:20221004T173000
DTSTAMP:20260420T004232
CREATED:20220928T015859Z
LAST-MODIFIED:20220928T015859Z
UID:10001490-1664901000-1664904600@torres.maderausd.org
SUMMARY:B. Water Polo vs Roosevelt
DESCRIPTION:Home match starts at 4:30pm
URL:https://torres.maderausd.org/event/b-water-polo-vs-roosevelt-2/
LOCATION:Matilda Torres High School\, 16645 Rd 26\, Madera\, CA 93638\, USA
CATEGORIES:Athletics
END:VEVENT
END:VCALENDAR