BEGIN:VCALENDAR
VERSION:2.0
PRODID:-//Matilda Torres High School - ECPv6.15.13.1//NONSGML v1.0//EN
CALSCALE:GREGORIAN
METHOD:PUBLISH
X-WR-CALNAME:Matilda Torres High School
X-ORIGINAL-URL:https://torres.maderausd.org
X-WR-CALDESC:Events for Matilda Torres High School
REFRESH-INTERVAL;VALUE=DURATION:PT1H
X-Robots-Tag:noindex
X-PUBLISHED-TTL:PT1H
BEGIN:VTIMEZONE
TZID:America/Los_Angeles
BEGIN:DAYLIGHT
TZOFFSETFROM:-0800
TZOFFSETTO:-0700
TZNAME:PDT
DTSTART:20230312T100000
END:DAYLIGHT
BEGIN:STANDARD
TZOFFSETFROM:-0700
TZOFFSETTO:-0800
TZNAME:PST
DTSTART:20231105T090000
END:STANDARD
BEGIN:DAYLIGHT
TZOFFSETFROM:-0800
TZOFFSETTO:-0700
TZNAME:PDT
DTSTART:20240310T100000
END:DAYLIGHT
BEGIN:STANDARD
TZOFFSETFROM:-0700
TZOFFSETTO:-0800
TZNAME:PST
DTSTART:20241103T090000
END:STANDARD
BEGIN:DAYLIGHT
TZOFFSETFROM:-0800
TZOFFSETTO:-0700
TZNAME:PDT
DTSTART:20250309T100000
END:DAYLIGHT
BEGIN:STANDARD
TZOFFSETFROM:-0700
TZOFFSETTO:-0800
TZNAME:PST
DTSTART:20251102T090000
END:STANDARD
END:VTIMEZONE
BEGIN:VEVENT
DTSTART;VALUE=DATE:20240927
DTEND;VALUE=DATE:20240928
DTSTAMP:20260116T063910
CREATED:20240713T035646Z
LAST-MODIFIED:20240713T035646Z
UID:10002394-1727395200-1727481599@torres.maderausd.org
SUMMARY:G. Water Polo Tournament
DESCRIPTION:V. Girls Tourney \nTimes TBD\, please see coach for updated times. 
URL:https://torres.maderausd.org/event/g-water-polo-tournament-6/
LOCATION:Merced
CATEGORIES:Athletics
END:VEVENT
BEGIN:VEVENT
DTSTART;VALUE=DATE:20240927
DTEND;VALUE=DATE:20240928
DTSTAMP:20260116T063910
CREATED:20240713T035646Z
LAST-MODIFIED:20240713T035646Z
UID:10002395-1727395200-1727481599@torres.maderausd.org
SUMMARY:B. Water Polo Tournament
DESCRIPTION:V Boys \nTournament times TBD\, please check with coach for meet times. 
URL:https://torres.maderausd.org/event/b-water-polo-tournament-6/
LOCATION:Sierra Pacific High
CATEGORIES:Athletics
END:VEVENT
BEGIN:VEVENT
DTSTART;TZID=America/Los_Angeles:20240927T130000
DTEND;TZID=America/Los_Angeles:20240927T173000
DTSTAMP:20260116T063910
CREATED:20240713T035647Z
LAST-MODIFIED:20240713T035647Z
UID:10002397-1727442000-1727458200@torres.maderausd.org
SUMMARY:XC @ Woodward Park
DESCRIPTION:JV/Frosh-Soph
URL:https://torres.maderausd.org/event/xc-woodward-park-8/
LOCATION:Woodward Park
CATEGORIES:Athletics
END:VEVENT
BEGIN:VEVENT
DTSTART;TZID=America/Los_Angeles:20240927T170000
DTEND;TZID=America/Los_Angeles:20240927T220000
DTSTAMP:20260116T063910
CREATED:20240713T035646Z
LAST-MODIFIED:20240713T035646Z
UID:10002393-1727456400-1727474400@torres.maderausd.org
SUMMARY:Football vs Roosevelt @ Sunnyside Stadium
DESCRIPTION:Jv: 5:00 V 7:30 \nPlease purchase your tickets online.\nNo cash sales at the door.
URL:https://torres.maderausd.org/event/football-vs-roosevelt-sunnyside-stadium/
LOCATION:Sunnyside Stadium
CATEGORIES:Athletics
END:VEVENT
END:VCALENDAR