BEGIN:VCALENDAR
VERSION:2.0
PRODID:-//Matilda Torres High School - ECPv6.15.18//NONSGML v1.0//EN
CALSCALE:GREGORIAN
METHOD:PUBLISH
X-WR-CALNAME:Matilda Torres High School
X-ORIGINAL-URL:https://torres.maderausd.org
X-WR-CALDESC:Events for Matilda Torres High School
REFRESH-INTERVAL;VALUE=DURATION:PT1H
X-Robots-Tag:noindex
X-PUBLISHED-TTL:PT1H
BEGIN:VTIMEZONE
TZID:America/Los_Angeles
BEGIN:DAYLIGHT
TZOFFSETFROM:-0800
TZOFFSETTO:-0700
TZNAME:PDT
DTSTART:20230312T100000
END:DAYLIGHT
BEGIN:STANDARD
TZOFFSETFROM:-0700
TZOFFSETTO:-0800
TZNAME:PST
DTSTART:20231105T090000
END:STANDARD
BEGIN:DAYLIGHT
TZOFFSETFROM:-0800
TZOFFSETTO:-0700
TZNAME:PDT
DTSTART:20240310T100000
END:DAYLIGHT
BEGIN:STANDARD
TZOFFSETFROM:-0700
TZOFFSETTO:-0800
TZNAME:PST
DTSTART:20241103T090000
END:STANDARD
BEGIN:DAYLIGHT
TZOFFSETFROM:-0800
TZOFFSETTO:-0700
TZNAME:PDT
DTSTART:20250309T100000
END:DAYLIGHT
BEGIN:STANDARD
TZOFFSETFROM:-0700
TZOFFSETTO:-0800
TZNAME:PST
DTSTART:20251102T090000
END:STANDARD
END:VTIMEZONE
BEGIN:VEVENT
DTSTART;VALUE=DATE:20240914
DTEND;VALUE=DATE:20240915
DTSTAMP:20260423T232045
CREATED:20240713T035613Z
LAST-MODIFIED:20240713T035613Z
UID:10002379-1726272000-1726358399@torres.maderausd.org
SUMMARY:G. Volleyball Tournament
DESCRIPTION:Frosh/Jv: 8:30 am  \nTournament times TBD please check with coach for tournament times. 
URL:https://torres.maderausd.org/event/g-volleyball-tournament-3/
LOCATION:Madera South
CATEGORIES:Athletics
END:VEVENT
BEGIN:VEVENT
DTSTART;TZID=America/Los_Angeles:20240914T170000
DTEND;TZID=America/Los_Angeles:20240914T230000
DTSTAMP:20260423T232045
CREATED:20240713T035612Z
LAST-MODIFIED:20240713T035612Z
UID:10002378-1726333200-1726354800@torres.maderausd.org
SUMMARY:XC @ Ceres
DESCRIPTION:V/JV/Frosh-Soph
URL:https://torres.maderausd.org/event/xc-ceres/
LOCATION:River Oaks Golf Course (Ceres\, CA)
CATEGORIES:Athletics
END:VEVENT
END:VCALENDAR