BEGIN:VCALENDAR
VERSION:2.0
PRODID:-//Matilda Torres High School - ECPv6.15.18//NONSGML v1.0//EN
CALSCALE:GREGORIAN
METHOD:PUBLISH
X-WR-CALNAME:Matilda Torres High School
X-ORIGINAL-URL:https://torres.maderausd.org
X-WR-CALDESC:Events for Matilda Torres High School
REFRESH-INTERVAL;VALUE=DURATION:PT1H
X-Robots-Tag:noindex
X-PUBLISHED-TTL:PT1H
BEGIN:VTIMEZONE
TZID:America/Los_Angeles
BEGIN:DAYLIGHT
TZOFFSETFROM:-0800
TZOFFSETTO:-0700
TZNAME:PDT
DTSTART:20230312T100000
END:DAYLIGHT
BEGIN:STANDARD
TZOFFSETFROM:-0700
TZOFFSETTO:-0800
TZNAME:PST
DTSTART:20231105T090000
END:STANDARD
BEGIN:DAYLIGHT
TZOFFSETFROM:-0800
TZOFFSETTO:-0700
TZNAME:PDT
DTSTART:20240310T100000
END:DAYLIGHT
BEGIN:STANDARD
TZOFFSETFROM:-0700
TZOFFSETTO:-0800
TZNAME:PST
DTSTART:20241103T090000
END:STANDARD
BEGIN:DAYLIGHT
TZOFFSETFROM:-0800
TZOFFSETTO:-0700
TZNAME:PDT
DTSTART:20250309T100000
END:DAYLIGHT
BEGIN:STANDARD
TZOFFSETFROM:-0700
TZOFFSETTO:-0800
TZNAME:PST
DTSTART:20251102T090000
END:STANDARD
END:VTIMEZONE
BEGIN:VEVENT
DTSTART;TZID=America/Los_Angeles:20240412T153000
DTEND;TZID=America/Los_Angeles:20240412T153000
DTSTAMP:20260419T154324
CREATED:20240122T004357Z
LAST-MODIFIED:20240122T004357Z
UID:10002260-1712935800-1712935800@torres.maderausd.org
SUMMARY:Softball vs Sanger West
DESCRIPTION:V\, JV
URL:https://torres.maderausd.org/event/softball-vs-sanger-west/
LOCATION:Torres High
CATEGORIES:Athletics
END:VEVENT
BEGIN:VEVENT
DTSTART;TZID=America/Los_Angeles:20240412T153000
DTEND;TZID=America/Los_Angeles:20240412T153000
DTSTAMP:20260419T154324
CREATED:20240122T004358Z
LAST-MODIFIED:20240122T004358Z
UID:10002261-1712935800-1712935800@torres.maderausd.org
SUMMARY:Baseball @ Fresno High
DESCRIPTION:JV: 3:30\, V: 3:30
URL:https://torres.maderausd.org/event/baseball-fresno-high-2/
LOCATION:Fresno
CATEGORIES:Athletics
END:VEVENT
END:VCALENDAR