BEGIN:VCALENDAR
VERSION:2.0
PRODID:-//Matilda Torres High School - ECPv6.15.18//NONSGML v1.0//EN
CALSCALE:GREGORIAN
METHOD:PUBLISH
X-ORIGINAL-URL:https://torres.maderausd.org/es/
X-WR-CALDESC:Eventos para Matilda Torres High School
REFRESH-INTERVAL;VALUE=DURATION:PT1H
X-Robots-Tag:noindex
X-PUBLISHED-TTL:PT1H
BEGIN:VTIMEZONE
TZID:America/Los_Angeles
BEGIN:DAYLIGHT
TZOFFSETFROM:-0800
TZOFFSETTO:-0700
TZNAME:PDT
DTSTART:20230312T100000
END:DAYLIGHT
BEGIN:STANDARD
TZOFFSETFROM:-0700
TZOFFSETTO:-0800
TZNAME:PST
DTSTART:20231105T090000
END:STANDARD
BEGIN:DAYLIGHT
TZOFFSETFROM:-0800
TZOFFSETTO:-0700
TZNAME:PDT
DTSTART:20240310T100000
END:DAYLIGHT
BEGIN:STANDARD
TZOFFSETFROM:-0700
TZOFFSETTO:-0800
TZNAME:PST
DTSTART:20241103T090000
END:STANDARD
BEGIN:DAYLIGHT
TZOFFSETFROM:-0800
TZOFFSETTO:-0700
TZNAME:PDT
DTSTART:20250309T100000
END:DAYLIGHT
BEGIN:STANDARD
TZOFFSETFROM:-0700
TZOFFSETTO:-0800
TZNAME:PST
DTSTART:20251102T090000
END:STANDARD
END:VTIMEZONE
BEGIN:VEVENT
DTSTART;TZID=America/Los_Angeles:20240917T150000
DTEND;TZID=America/Los_Angeles:20240917T170000
DTSTAMP:20260423T233330
CREATED:20240713T035613Z
LAST-MODIFIED:20240713T035613Z
UID:10002380-1726585200-1726592400@torres.maderausd.org
SUMMARY:G. Tennis @ Madera South
DESCRIPTION:Varisty & JV  \nUse Pool Parking lot to enter. 
URL:https://torres.maderausd.org/es/event/g-tennis-madera-south-3/
LOCATION:Madera South
CATEGORIES:Athletics
END:VEVENT
BEGIN:VEVENT
DTSTART;TZID=America/Los_Angeles:20240919T150000
DTEND;TZID=America/Los_Angeles:20240919T170000
DTSTAMP:20260423T233330
CREATED:20240713T035628Z
LAST-MODIFIED:20240713T035628Z
UID:10002381-1726758000-1726765200@torres.maderausd.org
SUMMARY:G. Tennis @ McLane
DESCRIPTION:Varisty & JV  \nUse Pool Parking lot to enter. 
URL:https://torres.maderausd.org/es/event/g-tennis-mclane-3/
LOCATION:McLane High
CATEGORIES:Athletics
END:VEVENT
BEGIN:VEVENT
DTSTART;TZID=America/Los_Angeles:20240919T160000
DTEND;TZID=America/Los_Angeles:20240919T180000
DTSTAMP:20260423T233330
CREATED:20240919T013418Z
LAST-MODIFIED:20240919T020433Z
UID:10002473-1726761600-1726768800@torres.maderausd.org
SUMMARY:SSC Meeting\, Sept 2024
DESCRIPTION:
URL:https://torres.maderausd.org/es/event/ssc-meeting-sept-2024/
LOCATION:Career Center
CATEGORIES:SSC,Calendar-Item
END:VEVENT
BEGIN:VEVENT
DTSTART;TZID=America/Los_Angeles:20240920T170000
DTEND;TZID=America/Los_Angeles:20240920T220000
DTSTAMP:20260423T233330
CREATED:20240713T035629Z
LAST-MODIFIED:20240713T035629Z
UID:10002382-1726851600-1726869600@torres.maderausd.org
SUMMARY:Football vs Fresno @ Mclane Stadium
DESCRIPTION:Jv: 5:00 V 7:30 \nPlease purchase your tickets online.\nNo cash sales at the door.
URL:https://torres.maderausd.org/es/event/football-vs-fresno-mclane-stadium/
LOCATION:Mclane Stadium
CATEGORIES:Athletics
END:VEVENT
BEGIN:VEVENT
DTSTART;TZID=America/Los_Angeles:20240921T000000
DTEND;TZID=America/Los_Angeles:20240921T000000
DTSTAMP:20260423T233330
CREATED:20240812T013002Z
LAST-MODIFIED:20240812T013002Z
UID:10002457-1726876800-1726876800@torres.maderausd.org
SUMMARY:Flag Football @ Pioneer Valley
DESCRIPTION:Varsity
URL:https://torres.maderausd.org/es/event/flag-football-pioneer-valley/
LOCATION:Pioneer Valley
CATEGORIES:Athletics
END:VEVENT
BEGIN:VEVENT
DTSTART;TZID=America/Los_Angeles:20240921T000000
DTEND;TZID=America/Los_Angeles:20240921T000000
DTSTAMP:20260423T233330
CREATED:20240812T013003Z
LAST-MODIFIED:20240812T013003Z
UID:10002458-1726876800-1726876800@torres.maderausd.org
SUMMARY:Flag Football @ Pioneer Valley
DESCRIPTION:Varsity
URL:https://torres.maderausd.org/es/event/flag-football-pioneer-valley-2/
LOCATION:Pioneer Valley
CATEGORIES:Athletics
END:VEVENT
BEGIN:VEVENT
DTSTART;TZID=America/Los_Angeles:20240921T170000
DTEND;TZID=America/Los_Angeles:20240921T170000
DTSTAMP:20260423T233330
CREATED:20240713T035629Z
LAST-MODIFIED:20240713T035629Z
UID:10002383-1726938000-1726938000@torres.maderausd.org
SUMMARY:XC @ Irvine
DESCRIPTION:Varsity
URL:https://torres.maderausd.org/es/event/xc-irvine/
LOCATION:Irvine\, CA
CATEGORIES:Athletics
END:VEVENT
BEGIN:VEVENT
DTSTART;TZID=America/Los_Angeles:20240921T180000
DTEND;TZID=America/Los_Angeles:20240921T200000
DTSTAMP:20260423T233330
CREATED:20240812T013021Z
LAST-MODIFIED:20240812T013021Z
UID:10002459-1726941600-1726948800@torres.maderausd.org
SUMMARY:Flag Football @ Pioneer Valley
DESCRIPTION:Varsity
URL:https://torres.maderausd.org/es/event/flag-football-pioneer-valley-3/
LOCATION:Pioneer Valley
CATEGORIES:Athletics
END:VEVENT
END:VCALENDAR