BEGIN:VCALENDAR
VERSION:2.0
PRODID:-//Matilda Torres High School - ECPv6.15.18//NONSGML v1.0//EN
CALSCALE:GREGORIAN
METHOD:PUBLISH
X-ORIGINAL-URL:https://torres.maderausd.org/es/
X-WR-CALDESC:Eventos para Matilda Torres High School
REFRESH-INTERVAL;VALUE=DURATION:PT1H
X-Robots-Tag:noindex
X-PUBLISHED-TTL:PT1H
BEGIN:VTIMEZONE
TZID:America/Los_Angeles
BEGIN:DAYLIGHT
TZOFFSETFROM:-0800
TZOFFSETTO:-0700
TZNAME:PDT
DTSTART:20230312T100000
END:DAYLIGHT
BEGIN:STANDARD
TZOFFSETFROM:-0700
TZOFFSETTO:-0800
TZNAME:PST
DTSTART:20231105T090000
END:STANDARD
BEGIN:DAYLIGHT
TZOFFSETFROM:-0800
TZOFFSETTO:-0700
TZNAME:PDT
DTSTART:20240310T100000
END:DAYLIGHT
BEGIN:STANDARD
TZOFFSETFROM:-0700
TZOFFSETTO:-0800
TZNAME:PST
DTSTART:20241103T090000
END:STANDARD
BEGIN:DAYLIGHT
TZOFFSETFROM:-0800
TZOFFSETTO:-0700
TZNAME:PDT
DTSTART:20250309T100000
END:DAYLIGHT
BEGIN:STANDARD
TZOFFSETFROM:-0700
TZOFFSETTO:-0800
TZNAME:PST
DTSTART:20251102T090000
END:STANDARD
END:VTIMEZONE
BEGIN:VEVENT
DTSTART;VALUE=DATE:20240812
DTEND;VALUE=DATE:20240813
DTSTAMP:20260419T115856
CREATED:20240720T080044Z
LAST-MODIFIED:20240720T080044Z
UID:10002417-1723420800-1723507199@torres.maderausd.org
SUMMARY:First Day of School 24-25
DESCRIPTION:
URL:https://torres.maderausd.org/es/event/first-day-of-school-24-25/
CATEGORIES:Calendar-Item
END:VEVENT
BEGIN:VEVENT
DTSTART;TZID=America/Los_Angeles:20240813T150000
DTEND;TZID=America/Los_Angeles:20240813T170000
DTSTAMP:20260419T115856
CREATED:20240713T035515Z
LAST-MODIFIED:20240713T035515Z
UID:10002343-1723561200-1723568400@torres.maderausd.org
SUMMARY:G. Tennis @ Firebaugh
DESCRIPTION:Varisty & JV  \nUse Pool Parking lot to enter. 
URL:https://torres.maderausd.org/es/event/g-tennis-firebaugh/
LOCATION:Firebaugh
CATEGORIES:Athletics
END:VEVENT
BEGIN:VEVENT
DTSTART;TZID=America/Los_Angeles:20240815T150000
DTEND;TZID=America/Los_Angeles:20240815T170000
DTSTAMP:20260419T115856
CREATED:20240713T035516Z
LAST-MODIFIED:20240713T035516Z
UID:10002344-1723734000-1723741200@torres.maderausd.org
SUMMARY:G. Tennis vs Madera High
DESCRIPTION:Varisty & JV  \nUse Pool Parking lot to enter. 
URL:https://torres.maderausd.org/es/event/g-tennis-vs-madera-high-2/
LOCATION:Torres High
CATEGORIES:Athletics
END:VEVENT
BEGIN:VEVENT
DTSTART;TZID=America/Los_Angeles:20240815T160000
DTEND;TZID=America/Los_Angeles:20240815T203000
DTSTAMP:20260419T115856
CREATED:20240713T035516Z
LAST-MODIFIED:20240713T035516Z
UID:10002345-1723737600-1723753800@torres.maderausd.org
SUMMARY:G. Volleyball vs Edison
DESCRIPTION:Fr:4:00\, JV:5:00\, Var:6:00  \nPlease purchase your tickets online gofan.com\nNo cash sales at the door.\nPlease use south parking lot for entrance.
URL:https://torres.maderausd.org/es/event/g-volleyball-vs-edison/
LOCATION:Torres High
CATEGORIES:Athletics
END:VEVENT
BEGIN:VEVENT
DTSTART;TZID=America/Los_Angeles:20240816T180000
DTEND;TZID=America/Los_Angeles:20240816T220000
DTSTAMP:20260419T115856
CREATED:20240713T035516Z
LAST-MODIFIED:20240713T035516Z
UID:10002346-1723831200-1723845600@torres.maderausd.org
SUMMARY:Football Scrimmage vs Chowchilla
DESCRIPTION:Jv: 6:00 V 7:00 \nPlease purchase your tickets online. No cash sales at the door\nSouth parking lot entrance
URL:https://torres.maderausd.org/es/event/football-scrimmage-vs-chowchilla/
LOCATION:Torres High
CATEGORIES:Athletics
END:VEVENT
END:VCALENDAR