BEGIN:VCALENDAR
VERSION:2.0
PRODID:-//Matilda Torres High School - ECPv6.15.18//NONSGML v1.0//EN
CALSCALE:GREGORIAN
METHOD:PUBLISH
X-WR-CALNAME:Matilda Torres High School
X-ORIGINAL-URL:https://torres.maderausd.org/es/
X-WR-CALDESC:Eventos para Matilda Torres High School
REFRESH-INTERVAL;VALUE=DURATION:PT1H
X-Robots-Tag:noindex
X-PUBLISHED-TTL:PT1H
BEGIN:VTIMEZONE
TZID:America/Los_Angeles
BEGIN:DAYLIGHT
TZOFFSETFROM:-0800
TZOFFSETTO:-0700
TZNAME:PDT
DTSTART:20240310T100000
END:DAYLIGHT
BEGIN:STANDARD
TZOFFSETFROM:-0700
TZOFFSETTO:-0800
TZNAME:PST
DTSTART:20241103T090000
END:STANDARD
BEGIN:DAYLIGHT
TZOFFSETFROM:-0800
TZOFFSETTO:-0700
TZNAME:PDT
DTSTART:20250309T100000
END:DAYLIGHT
BEGIN:STANDARD
TZOFFSETFROM:-0700
TZOFFSETTO:-0800
TZNAME:PST
DTSTART:20251102T090000
END:STANDARD
BEGIN:DAYLIGHT
TZOFFSETFROM:-0800
TZOFFSETTO:-0700
TZNAME:PDT
DTSTART:20260308T100000
END:DAYLIGHT
BEGIN:STANDARD
TZOFFSETFROM:-0700
TZOFFSETTO:-0800
TZNAME:PST
DTSTART:20261101T090000
END:STANDARD
END:VTIMEZONE
BEGIN:VEVENT
DTSTART;VALUE=DATE:20250926
DTEND;VALUE=DATE:20250927
DTSTAMP:20260421T190511
CREATED:20250628T030640Z
LAST-MODIFIED:20250628T030640Z
UID:10002657-1758844800-1758931199@torres.maderausd.org
SUMMARY:XC @ Footlocker Nike Nationals
DESCRIPTION:
URL:https://torres.maderausd.org/es/event/xc-footlocker-nike-nationals-2/
CATEGORIES:Athletics
END:VEVENT
BEGIN:VEVENT
DTSTART;TZID=America/Los_Angeles:20250926T080000
DTEND;TZID=America/Los_Angeles:20250926T220000
DTSTAMP:20260421T190511
CREATED:20250628T030640Z
LAST-MODIFIED:20250628T030640Z
UID:10002656-1758873600-1758924000@torres.maderausd.org
SUMMARY:Flag Football @ Wilcox Tournament
DESCRIPTION:Varsity \nTimes are subject to change\, coach will notify of changes.\nTournament times will be provided by coach. 
URL:https://torres.maderausd.org/es/event/flag-football-wilcox-tournament/
LOCATION:Wilcox High School
CATEGORIES:Athletics
END:VEVENT
BEGIN:VEVENT
DTSTART;TZID=America/Los_Angeles:20250926T170000
DTEND;TZID=America/Los_Angeles:20250926T220000
DTSTAMP:20260421T190511
CREATED:20250705T030621Z
LAST-MODIFIED:20250705T030621Z
UID:10002658-1758906000-1758924000@torres.maderausd.org
SUMMARY:Football vs Roosevelt (Homecoming)
DESCRIPTION:JV: 5:00 pm             Var: 7:30 pm \nTimes are subject to change\, coach will notify of changes.\nTournament times will be provided by coach. 
URL:https://torres.maderausd.org/es/event/football-vs-roosevelt-homecoming/
LOCATION:Torres High
CATEGORIES:Athletics
END:VEVENT
END:VCALENDAR