BEGIN:VCALENDAR
VERSION:2.0
PRODID:-//Matilda Torres High School - ECPv6.15.18//NONSGML v1.0//EN
CALSCALE:GREGORIAN
METHOD:PUBLISH
X-WR-CALNAME:Matilda Torres High School
X-ORIGINAL-URL:https://torres.maderausd.org/es/
X-WR-CALDESC:Eventos para Matilda Torres High School
REFRESH-INTERVAL;VALUE=DURATION:PT1H
X-Robots-Tag:noindex
X-PUBLISHED-TTL:PT1H
BEGIN:VTIMEZONE
TZID:America/Los_Angeles
BEGIN:DAYLIGHT
TZOFFSETFROM:-0800
TZOFFSETTO:-0700
TZNAME:PDT
DTSTART:20240310T100000
END:DAYLIGHT
BEGIN:STANDARD
TZOFFSETFROM:-0700
TZOFFSETTO:-0800
TZNAME:PST
DTSTART:20241103T090000
END:STANDARD
BEGIN:DAYLIGHT
TZOFFSETFROM:-0800
TZOFFSETTO:-0700
TZNAME:PDT
DTSTART:20250309T100000
END:DAYLIGHT
BEGIN:STANDARD
TZOFFSETFROM:-0700
TZOFFSETTO:-0800
TZNAME:PST
DTSTART:20251102T090000
END:STANDARD
BEGIN:DAYLIGHT
TZOFFSETFROM:-0800
TZOFFSETTO:-0700
TZNAME:PDT
DTSTART:20260308T100000
END:DAYLIGHT
BEGIN:STANDARD
TZOFFSETFROM:-0700
TZOFFSETTO:-0800
TZNAME:PST
DTSTART:20261101T090000
END:STANDARD
END:VTIMEZONE
BEGIN:VEVENT
DTSTART;TZID=America/Los_Angeles:20250916T140000
DTEND;TZID=America/Los_Angeles:20250916T180000
DTSTAMP:20260422T013904
CREATED:20250621T025254Z
LAST-MODIFIED:20250621T025254Z
UID:10002634-1758031200-1758045600@torres.maderausd.org
SUMMARY:G. Golf @ MCC vs Fresno High
DESCRIPTION:Match time 2:00 pm
URL:https://torres.maderausd.org/es/event/g-golf-mcc-vs-fresno-high/
LOCATION:Country Club Drive\, 1101 Country Club Dr\, Madera\, CA\, United States
CATEGORIES:Athletics
GEO:36.975293;-120.074275
X-APPLE-STRUCTURED-LOCATION;VALUE=URI;X-ADDRESS=Country Club Drive 1101 Country Club Dr Madera CA United States;X-APPLE-RADIUS=500;X-TITLE=1101 Country Club Dr:geo:-120.074275,36.975293
END:VEVENT
BEGIN:VEVENT
DTSTART;TZID=America/Los_Angeles:20250916T150000
DTEND;TZID=America/Los_Angeles:20250916T180000
DTSTAMP:20260422T013904
CREATED:20250621T025255Z
LAST-MODIFIED:20250621T025255Z
UID:10002635-1758034800-1758045600@torres.maderausd.org
SUMMARY:Tennis @ Liberty
DESCRIPTION:JV/Var \nTimes are subject to change\, coach will notify of changes.\nTournament times will be provided by coach. 
URL:https://torres.maderausd.org/es/event/tennis-liberty/
LOCATION:Liberty High
CATEGORIES:Athletics
END:VEVENT
BEGIN:VEVENT
DTSTART;TZID=America/Los_Angeles:20250916T163000
DTEND;TZID=America/Los_Angeles:20250916T200000
DTSTAMP:20260422T013904
CREATED:20250621T025257Z
LAST-MODIFIED:20250621T025257Z
UID:10002637-1758040200-1758052800@torres.maderausd.org
SUMMARY:G. Volleyball vs Kerman
DESCRIPTION:Jv 4:30 pm Var: 5:30 pm \nTimes are subject to change\, coach will notify of changes.\nTournament times will be provided by coach. 
URL:https://torres.maderausd.org/es/event/g-volleyball-vs-kerman/
LOCATION:Torres High
CATEGORIES:Athletics
END:VEVENT
BEGIN:VEVENT
DTSTART;TZID=America/Los_Angeles:20250916T183000
DTEND;TZID=America/Los_Angeles:20250916T193000
DTSTAMP:20260422T013904
CREATED:20250621T025255Z
LAST-MODIFIED:20250621T025255Z
UID:10002636-1758047400-1758051000@torres.maderausd.org
SUMMARY:Flag Football @ AtwaterHigh
DESCRIPTION:JV: 6:00 PM Varsity: 7:00 PM \nTimes are subject to change\, coach will notify of changes.\nTournament times will be provided by coach. 
URL:https://torres.maderausd.org/es/event/flag-football-atwaterhigh/
LOCATION:Atwater High
CATEGORIES:Athletics
END:VEVENT
END:VCALENDAR