BEGIN:VCALENDAR
VERSION:2.0
PRODID:-//Matilda Torres High School - ECPv6.15.18//NONSGML v1.0//EN
CALSCALE:GREGORIAN
METHOD:PUBLISH
X-ORIGINAL-URL:https://torres.maderausd.org/es/
X-WR-CALDESC:Eventos para Matilda Torres High School
REFRESH-INTERVAL;VALUE=DURATION:PT1H
X-Robots-Tag:noindex
X-PUBLISHED-TTL:PT1H
BEGIN:VTIMEZONE
TZID:America/Los_Angeles
BEGIN:DAYLIGHT
TZOFFSETFROM:-0800
TZOFFSETTO:-0700
TZNAME:PDT
DTSTART:20240310T100000
END:DAYLIGHT
BEGIN:STANDARD
TZOFFSETFROM:-0700
TZOFFSETTO:-0800
TZNAME:PST
DTSTART:20241103T090000
END:STANDARD
BEGIN:DAYLIGHT
TZOFFSETFROM:-0800
TZOFFSETTO:-0700
TZNAME:PDT
DTSTART:20250309T100000
END:DAYLIGHT
BEGIN:STANDARD
TZOFFSETFROM:-0700
TZOFFSETTO:-0800
TZNAME:PST
DTSTART:20251102T090000
END:STANDARD
BEGIN:DAYLIGHT
TZOFFSETFROM:-0800
TZOFFSETTO:-0700
TZNAME:PDT
DTSTART:20260308T100000
END:DAYLIGHT
BEGIN:STANDARD
TZOFFSETFROM:-0700
TZOFFSETTO:-0800
TZNAME:PST
DTSTART:20261101T090000
END:STANDARD
END:VTIMEZONE
BEGIN:VEVENT
DTSTART;VALUE=DATE:20250821
DTEND;VALUE=DATE:20250822
DTSTAMP:20260422T013233
CREATED:20250816T030509Z
LAST-MODIFIED:20250816T030509Z
UID:10002715-1755734400-1755820799@torres.maderausd.org
SUMMARY:11th and 12th Grade School Pictures
DESCRIPTION:
URL:https://torres.maderausd.org/es/event/11th-and-12th-grade-school-pictures/
CATEGORIES:Calendar-Item
END:VEVENT
BEGIN:VEVENT
DTSTART;TZID=America/Los_Angeles:20250821T153000
DTEND;TZID=America/Los_Angeles:20250821T200000
DTSTAMP:20260422T013233
CREATED:20250621T025109Z
LAST-MODIFIED:20250621T025109Z
UID:10002601-1755790200-1755806400@torres.maderausd.org
SUMMARY:G. Volleyball @ Edison High
DESCRIPTION:Fr: 3:30 pm Jv: 4:30 pm Var: 5:30 pm \nTimes are subject to change\, coach will notify of changes.\nTournament times will be provided by coach. 
URL:https://torres.maderausd.org/es/event/g-volleyball-edison-high-2/
LOCATION:Edison High
CATEGORIES:Athletics
END:VEVENT
END:VCALENDAR