BEGIN:VCALENDAR
VERSION:2.0
PRODID:-//Matilda Torres High School - ECPv6.15.18//NONSGML v1.0//EN
CALSCALE:GREGORIAN
METHOD:PUBLISH
X-ORIGINAL-URL:https://torres.maderausd.org/es/
X-WR-CALDESC:Eventos para Matilda Torres High School
REFRESH-INTERVAL;VALUE=DURATION:PT1H
X-Robots-Tag:noindex
X-PUBLISHED-TTL:PT1H
BEGIN:VTIMEZONE
TZID:America/Los_Angeles
BEGIN:DAYLIGHT
TZOFFSETFROM:-0800
TZOFFSETTO:-0700
TZNAME:PDT
DTSTART:20230312T100000
END:DAYLIGHT
BEGIN:STANDARD
TZOFFSETFROM:-0700
TZOFFSETTO:-0800
TZNAME:PST
DTSTART:20231105T090000
END:STANDARD
BEGIN:DAYLIGHT
TZOFFSETFROM:-0800
TZOFFSETTO:-0700
TZNAME:PDT
DTSTART:20240310T100000
END:DAYLIGHT
BEGIN:STANDARD
TZOFFSETFROM:-0700
TZOFFSETTO:-0800
TZNAME:PST
DTSTART:20241103T090000
END:STANDARD
BEGIN:DAYLIGHT
TZOFFSETFROM:-0800
TZOFFSETTO:-0700
TZNAME:PDT
DTSTART:20250309T100000
END:DAYLIGHT
BEGIN:STANDARD
TZOFFSETFROM:-0700
TZOFFSETTO:-0800
TZNAME:PST
DTSTART:20251102T090000
END:STANDARD
END:VTIMEZONE
BEGIN:VEVENT
DTSTART;TZID=America/Los_Angeles:20241101T170000
DTEND;TZID=America/Los_Angeles:20241101T220000
DTSTAMP:20260420T104754
CREATED:20240804T233141Z
LAST-MODIFIED:20240804T233141Z
UID:10002447-1730480400-1730498400@torres.maderausd.org
SUMMARY:Football vs Madera South (Senior Night)
DESCRIPTION:Jv: 5:00 V 7:30 \nPlease purchase your tickets online. No cash sales at the door\nSouth parking lot entrance
URL:https://torres.maderausd.org/es/event/football-vs-madera-south-senior-night/
LOCATION:Torres High
CATEGORIES:Athletics
END:VEVENT
BEGIN:VEVENT
DTSTART;TZID=America/Los_Angeles:20241101T183000
DTEND;TZID=America/Los_Angeles:20241101T210000
DTSTAMP:20260420T104754
CREATED:20240804T233141Z
LAST-MODIFIED:20240804T233141Z
UID:10002448-1730485800-1730494800@torres.maderausd.org
SUMMARY:XC @ Clovis East
DESCRIPTION:V/JV/Frosh-Soph
URL:https://torres.maderausd.org/es/event/xc-clovis-east-3/
LOCATION:Clovis East HS
CATEGORIES:Athletics
END:VEVENT
END:VCALENDAR