BEGIN:VCALENDAR
VERSION:2.0
PRODID:-//Matilda Torres High School - ECPv6.15.18//NONSGML v1.0//EN
CALSCALE:GREGORIAN
METHOD:PUBLISH
X-WR-CALNAME:Matilda Torres High School
X-ORIGINAL-URL:https://torres.maderausd.org/es/
X-WR-CALDESC:Eventos para Matilda Torres High School
REFRESH-INTERVAL;VALUE=DURATION:PT1H
X-Robots-Tag:noindex
X-PUBLISHED-TTL:PT1H
BEGIN:VTIMEZONE
TZID:America/Los_Angeles
BEGIN:DAYLIGHT
TZOFFSETFROM:-0800
TZOFFSETTO:-0700
TZNAME:PDT
DTSTART:20230312T100000
END:DAYLIGHT
BEGIN:STANDARD
TZOFFSETFROM:-0700
TZOFFSETTO:-0800
TZNAME:PST
DTSTART:20231105T090000
END:STANDARD
BEGIN:DAYLIGHT
TZOFFSETFROM:-0800
TZOFFSETTO:-0700
TZNAME:PDT
DTSTART:20240310T100000
END:DAYLIGHT
BEGIN:STANDARD
TZOFFSETFROM:-0700
TZOFFSETTO:-0800
TZNAME:PST
DTSTART:20241103T090000
END:STANDARD
BEGIN:DAYLIGHT
TZOFFSETFROM:-0800
TZOFFSETTO:-0700
TZNAME:PDT
DTSTART:20250309T100000
END:DAYLIGHT
BEGIN:STANDARD
TZOFFSETFROM:-0700
TZOFFSETTO:-0800
TZNAME:PST
DTSTART:20251102T090000
END:STANDARD
END:VTIMEZONE
BEGIN:VEVENT
DTSTART;TZID=America/Los_Angeles:20240314T040000
DTEND;TZID=America/Los_Angeles:20240314T040000
DTSTAMP:20260420T055918
CREATED:20240122T004315Z
LAST-MODIFIED:20240122T004315Z
UID:10002232-1710388800-1710388800@torres.maderausd.org
SUMMARY:Softball @ Reedley
DESCRIPTION:V\, JV
URL:https://torres.maderausd.org/es/event/softball-reedley/
LOCATION:Reedley
CATEGORIES:Athletics
END:VEVENT
BEGIN:VEVENT
DTSTART;TZID=America/Los_Angeles:20240314T140000
DTEND;TZID=America/Los_Angeles:20240314T140000
DTSTAMP:20260420T055918
CREATED:20240129T032352Z
LAST-MODIFIED:20240129T032352Z
UID:10002289-1710424800-1710424800@torres.maderausd.org
SUMMARY:B. Golf vs Roosevelt
DESCRIPTION:
URL:https://torres.maderausd.org/es/event/b-golf-vs-roosevelt/
LOCATION:Dragon Fly
CATEGORIES:Athletics
END:VEVENT
BEGIN:VEVENT
DTSTART;TZID=America/Los_Angeles:20240314T150000
DTEND;TZID=America/Los_Angeles:20240314T150000
DTSTAMP:20260420T055918
CREATED:20240129T032352Z
LAST-MODIFIED:20240129T032352Z
UID:10002290-1710428400-1710428400@torres.maderausd.org
SUMMARY:B.Tennis @ Roosevelt
DESCRIPTION:Varsity & JV
URL:https://torres.maderausd.org/es/event/b-tennis-roosevelt/
LOCATION:Roosevelt High School\, 4250 E Tulare Ave\, Fresno\, CA\, United States
CATEGORIES:Athletics
GEO:36.743077;-119.753867
X-APPLE-STRUCTURED-LOCATION;VALUE=URI;X-ADDRESS=Roosevelt High School 4250 E Tulare Ave Fresno CA United States;X-APPLE-RADIUS=500;X-TITLE=4250 E Tulare Ave:geo:-119.753867,36.743077
END:VEVENT
BEGIN:VEVENT
DTSTART;TZID=America/Los_Angeles:20240314T153000
DTEND;TZID=America/Los_Angeles:20240314T153000
DTSTAMP:20260420T055918
CREATED:20240122T004315Z
LAST-MODIFIED:20240122T004315Z
UID:10002233-1710430200-1710430200@torres.maderausd.org
SUMMARY:Baseball vs Firebaugh
DESCRIPTION:JV: 3:30\, V: 3:30
URL:https://torres.maderausd.org/es/event/baseball-vs-firebaugh/
LOCATION:Torres High
CATEGORIES:Athletics
END:VEVENT
BEGIN:VEVENT
DTSTART;TZID=America/Los_Angeles:20240314T153000
DTEND;TZID=America/Los_Angeles:20240314T173000
DTSTAMP:20260420T055918
CREATED:20240122T004315Z
LAST-MODIFIED:20240122T004315Z
UID:10002234-1710430200-1710437400@torres.maderausd.org
SUMMARY:B.Volleyball @ Hoover
DESCRIPTION:Frosh: 3:30/ JV: 4:30/ V: 5:30
URL:https://torres.maderausd.org/es/event/b-volleyball-hoover-2/
LOCATION:Hoover
CATEGORIES:Athletics
END:VEVENT
END:VCALENDAR