BEGIN:VCALENDAR
VERSION:2.0
PRODID:-//Matilda Torres High School - ECPv6.15.18//NONSGML v1.0//EN
CALSCALE:GREGORIAN
METHOD:PUBLISH
X-WR-CALNAME:Matilda Torres High School
X-ORIGINAL-URL:https://torres.maderausd.org/es/
X-WR-CALDESC:Eventos para Matilda Torres High School
REFRESH-INTERVAL;VALUE=DURATION:PT1H
X-Robots-Tag:noindex
X-PUBLISHED-TTL:PT1H
BEGIN:VTIMEZONE
TZID:America/Los_Angeles
BEGIN:DAYLIGHT
TZOFFSETFROM:-0800
TZOFFSETTO:-0700
TZNAME:PDT
DTSTART:20200308T100000
END:DAYLIGHT
BEGIN:STANDARD
TZOFFSETFROM:-0700
TZOFFSETTO:-0800
TZNAME:PST
DTSTART:20201101T090000
END:STANDARD
BEGIN:DAYLIGHT
TZOFFSETFROM:-0800
TZOFFSETTO:-0700
TZNAME:PDT
DTSTART:20210314T100000
END:DAYLIGHT
BEGIN:STANDARD
TZOFFSETFROM:-0700
TZOFFSETTO:-0800
TZNAME:PST
DTSTART:20211107T090000
END:STANDARD
BEGIN:DAYLIGHT
TZOFFSETFROM:-0800
TZOFFSETTO:-0700
TZNAME:PDT
DTSTART:20220313T100000
END:DAYLIGHT
BEGIN:STANDARD
TZOFFSETFROM:-0700
TZOFFSETTO:-0800
TZNAME:PST
DTSTART:20221106T090000
END:STANDARD
END:VTIMEZONE
BEGIN:VEVENT
DTSTART;TZID=America/Los_Angeles:20210920T170000
DTEND;TZID=America/Los_Angeles:20210920T180000
DTSTAMP:20260424T172223
CREATED:20210827T200701Z
LAST-MODIFIED:20210914T211128Z
UID:13194-1632157200-1632160800@torres.maderausd.org
SUMMARY:ELAC Meeting #1 (Rescheduled)
DESCRIPTION:ELAC Meeting #1 (Rescheduled) 				\n				\n									Torres High School Lecture Hall  								\n					\n		\n					\n		\n				\n						\n					\n			\n						\n																\n															\n															\n				\n										\n						\n						\n							\n									Download the Flyer\n					\n					\n								\n					\n		\n				\n			\n						\n																\n															\n															\n				\n										\n						\n						\n							\n									Download the Agenda
URL:https://torres.maderausd.org/es/event/elac-meeting-1/
LOCATION:ONLINE
CATEGORIES:Home,Calendar-Item,ELAC
END:VEVENT
END:VCALENDAR